BEGIN:VCALENDAR
VERSION:2.0
CALSCALE:GREGORIAN
PRODID:-//Diputació de Barcelona//DibaCMS//EN
BEGIN:VEVENT
UID:2513
DTSTAMP:20260422T235656
DTSTART:20200829T000000
DTEND:20480827T000000
SUMMARY:Es prohibeixen les trobades públiques i privades de més de 10 persones a tot Catalunya
LOCATION:
METHOD:PUBLISH
X-WR-CALNAME:dosrius@dosrius.cat
X-WR-TIMEZONE:Europe/Madrid
DESCRIPTION:La prohibició afecta tant l’àmbit privat com l’àmbit públic.

URI:https://www.dosrius.cat/actualitat/noticies/es-prohibeixen-les-trobades-publiques-i-privades-de-mes-de-10-persones-a-tot-catalunya.html
CLASS:PUBLIC
END:VEVENT
END:VCALENDAR
