BEGIN:VCALENDAR
VERSION:2.0
CALSCALE:GREGORIAN
PRODID:-//Diputació de Barcelona//DibaCMS//EN
BEGIN:VEVENT
UID:2511
DTSTAMP:20260422T235957
DTSTART:20200824T180000
DTEND:20480814T000000
SUMMARY:Brot de Covid-19 a les Colònies Forestals
LOCATION:
METHOD:PUBLISH
X-WR-CALNAME:dosrius@dosrius.cat
X-WR-TIMEZONE:Europe/Madrid
DESCRIPTION:Al llarg dels darrers dies s’han dut a terme més d’una cinquantena de proves de diagnòstic PCR als possibles contactes directes de les persones afectades, i totes elles han donat negatiu.

URI:https://www.dosrius.cat/actualitat/noticies/brot-de-covid-19-a-les-colonies-forestals.html
CLASS:PUBLIC
END:VEVENT
END:VCALENDAR
