BEGIN:VCALENDAR
VERSION:2.0
CALSCALE:GREGORIAN
PRODID:-//Diputació de Barcelona//DibaCMS//EN
BEGIN:VEVENT
UID:2510
DTSTAMP:20260423T013146
DTSTART:20200825T090000
DTEND:20480820T000000
SUMMARY:26 d'agost: Ple municipal extraordinari
LOCATION:
METHOD:PUBLISH
X-WR-CALNAME:dosrius@dosrius.cat
X-WR-TIMEZONE:Europe/Madrid
DESCRIPTION:La sessió tindrà lloc a les 09h per via telemàtica.

URI:https://www.dosrius.cat/actualitat/noticies/26-dagost-ple-municipal-extraordinari.html
CLASS:PUBLIC
END:VEVENT
END:VCALENDAR
