BEGIN:VCALENDAR
VERSION:2.0
CALSCALE:GREGORIAN
PRODID:-//Diputació de Barcelona//DibaCMS//EN
BEGIN:VEVENT
UID:2503
DTSTAMP:20260422T211120
DTSTART:20200819T000000
DTEND:20480814T000000
SUMMARY:Comença el desplegament de la fibra òptica a Can Massuet del Far 
LOCATION:
METHOD:PUBLISH
X-WR-CALNAME:dosrius@dosrius.cat
X-WR-TIMEZONE:Europe/Madrid
DESCRIPTION:Els treballs, que també implicaran la zona de Can Valls, és previst que tinguin una durada aproximada de tres mesos. 

URI:https://www.dosrius.cat/actualitat/noticies/comenca-el-desplegament-de-la-fibra-optica-a-can-massuet-del-far-.html
CLASS:PUBLIC
END:VEVENT
END:VCALENDAR
