BEGIN:VCALENDAR
VERSION:2.0
CALSCALE:GREGORIAN
PRODID:-//Diputació de Barcelona//DibaCMS//EN
BEGIN:VEVENT
UID:2502
DTSTAMP:20260423T064836
DTSTART:20200818T000000
DTEND:20480814T000000
SUMMARY:Noves mesures per contenir els brots de Covid-19
LOCATION:
METHOD:PUBLISH
X-WR-CALNAME:dosrius@dosrius.cat
X-WR-TIMEZONE:Europe/Madrid
DESCRIPTION:Segueix vigent la prohibició del consum de begudes alcohòliques a la via pública.

URI:https://www.dosrius.cat/actualitat/noticies/noves-mesures-per-contenir-els-brots-de-covid-19.html
CLASS:PUBLIC
END:VEVENT
END:VCALENDAR
