BEGIN:VCALENDAR
VERSION:2.0
CALSCALE:GREGORIAN
PRODID:-//Diputació de Barcelona//DibaCMS//EN
BEGIN:VEVENT
UID:2496
DTSTAMP:20260423T010818
DTSTART:20200806T145900
DTEND:20480814T000000
SUMMARY:L’Ajuntament augmenta en un 60% la subvenció destinada a Creu Roja 
LOCATION:
METHOD:PUBLISH
X-WR-CALNAME:dosrius@dosrius.cat
X-WR-TIMEZONE:Europe/Madrid
DESCRIPTION:L’augment de la partida respon a la voluntat del consistori de potenciar i reforçar el suport i l’ajuda que s’ofereix des de l’entitat a les persones afectades per la crisi i la pandèmia de la Covid-19.

URI:https://www.dosrius.cat/actualitat/noticies/lajuntament-augmenta-en-un-60-la-subvencio-destinada-a-creu-roja-.html
CLASS:PUBLIC
END:VEVENT
END:VCALENDAR
