BEGIN:VCALENDAR
VERSION:2.0
CALSCALE:GREGORIAN
PRODID:-//Diputació de Barcelona//DibaCMS//EN
BEGIN:VEVENT
UID:2495
DTSTAMP:20260423T010732
DTSTART:20200805T000000
DTEND:20480821T000000
SUMMARY:La Policia Local incorpora una nova agent després d’haver superat el Curs Bàsic a l’ISPC
LOCATION:
METHOD:PUBLISH
X-WR-CALNAME:dosrius@dosrius.cat
X-WR-TIMEZONE:Europe/Madrid
DESCRIPTION:Amb aquesta nova incorporació l’Ajuntament dona un pas endavant per tal de consolidar la plantilla del cos policial i augmentar-la amb nous efectius.

URI:https://www.dosrius.cat/actualitat/noticies/la-policia-local-incorpora-una-nova-agent-despres-dhaver-superat-el-curs-basic-a-lispc.html
CLASS:PUBLIC
END:VEVENT
END:VCALENDAR
