BEGIN:VCALENDAR
VERSION:2.0
CALSCALE:GREGORIAN
PRODID:-//Diputació de Barcelona//DibaCMS//EN
BEGIN:VEVENT
UID:2494
DTSTAMP:20260423T010842
DTSTART:20200730T000000
DTEND:20480724T000000
SUMMARY:Convocatòria de subvencions per a entitats culturals i esportives per a l’any 2020
LOCATION:
METHOD:PUBLISH
X-WR-CALNAME:dosrius@dosrius.cat
X-WR-TIMEZONE:Europe/Madrid
DESCRIPTION:Les entitats municipals podran presentar les seves sol·licituds al Registre General de l’Ajuntament fins al 31 d’agost.

URI:https://www.dosrius.cat/actualitat/noticies/convocatoria-de-subvencions-per-a-entitats-culturals-i-esportives-per-a-lany-2020.html
CLASS:PUBLIC
END:VEVENT
END:VCALENDAR
