BEGIN:VCALENDAR
VERSION:2.0
CALSCALE:GREGORIAN
PRODID:-//Diputació de Barcelona//DibaCMS//EN
BEGIN:VEVENT
UID:2493
DTSTAMP:20260423T095228
DTSTART:20200729T000000
DTEND:20480724T000000
SUMMARY:La Festa Major de Canyamars queda anul·lada per la Covid-19
LOCATION:
METHOD:PUBLISH
X-WR-CALNAME:dosrius@dosrius.cat
X-WR-TIMEZONE:Europe/Madrid
DESCRIPTION:La mesura té com a objectiu garantir la seguretat i el benestar dels veïns i veïnes davant l’augment de positius de Covid-19 registrat al territori al llarg dels darrers dies.

URI:https://www.dosrius.cat/actualitat/noticies/la-festa-major-de-canyamars-queda-anullada-per-la-covid-19.html
CLASS:PUBLIC
END:VEVENT
END:VCALENDAR
