BEGIN:VCALENDAR
VERSION:2.0
CALSCALE:GREGORIAN
PRODID:-//Diputació de Barcelona//DibaCMS//EN
BEGIN:VEVENT
UID:2485
DTSTAMP:20260423T070349
DTSTART:20200721T080000
DTEND:20480717T000000
SUMMARY:Tot preparat per a les Festes Majors d’aquest 2020 a l’espera de l’evolució de la pandèmia de la Covid-19
LOCATION:
METHOD:PUBLISH
X-WR-CALNAME:dosrius@dosrius.cat
X-WR-TIMEZONE:Europe/Madrid
DESCRIPTION:La celebració de les Festes Majors de Canyamars, Dosrius i Can Massuet del Far està condicionada a la situació sanitària actual i les diferents activitats comptaran amb totes les mesures de seguretat per tal d’evitar el contagi i la propagació del coronavirus. L’Ajuntament informarà puntualment de qualsevol novetat al respecte.

URI:https://www.dosrius.cat/actualitat/noticies/tot-preparat-per-a-les-festes-majors-daquest-2020-a-lespera-de-levolucio-de-la-pandemia-de-la-covid-19.html
CLASS:PUBLIC
END:VEVENT
END:VCALENDAR
