BEGIN:VCALENDAR
VERSION:2.0
CALSCALE:GREGORIAN
PRODID:-//Diputació de Barcelona//DibaCMS//EN
BEGIN:VEVENT
UID:2482
DTSTAMP:20260423T064819
DTSTART:20200720T000000
DTEND:20480730T000000
SUMMARY:Aquest estiu vine a donar sang!
LOCATION:
METHOD:PUBLISH
X-WR-CALNAME:dosrius@dosrius.cat
X-WR-TIMEZONE:Europe/Madrid
DESCRIPTION:El 26 de juliol es podrà donar a la Sala de Plens de l'Ajuntament de Dosrius, de 10 h a 14 h. Per a donar sang cal reservar cita prèvia al web donarsang.gencat.cat.

URI:https://www.dosrius.cat/actualitat/noticies/aquest-estiu-vine-a-donar-sang.html
CLASS:PUBLIC
END:VEVENT
END:VCALENDAR
