BEGIN:VCALENDAR
VERSION:2.0
CALSCALE:GREGORIAN
PRODID:-//Diputació de Barcelona//DibaCMS//EN
BEGIN:VEVENT
UID:2480
DTSTAMP:20260423T041353
DTSTART:20200717T000000
DTEND:20480717T000000
SUMMARY:L’estacionament al pàrquing de davant de l’Ajuntament està limitat per disc horari
LOCATION:
METHOD:PUBLISH
X-WR-CALNAME:dosrius@dosrius.cat
X-WR-TIMEZONE:Europe/Madrid
DESCRIPTION:A les zones de càrrega i descàrrega del municipi l’estacionament també està limitat per disc horari.

URI:https://www.dosrius.cat/actualitat/noticies/lestacionament-al-parquing-de-davant-de-lajuntament-esta-limitat-per-disc-horari.html
CLASS:PUBLIC
END:VEVENT
END:VCALENDAR
