BEGIN:VCALENDAR
VERSION:2.0
CALSCALE:GREGORIAN
PRODID:-//Diputació de Barcelona//DibaCMS//EN
BEGIN:VEVENT
UID:2479
DTSTAMP:20260423T042156
DTSTART:20200715T000000
DTEND:20480717T000000
SUMMARY:Adamo desplegarà la fibra òptica a Can Massuet del Far i a Can Valls durant els mesos d’agost, setembre i octubre
LOCATION:
METHOD:PUBLISH
X-WR-CALNAME:dosrius@dosrius.cat
X-WR-TIMEZONE:Europe/Madrid
DESCRIPTION:Els nuclis de Dosrius i Canyamars ja disposen d’aquest nou servei que permetrà millorar les telecomunicacions del municipi i suposarà un guany socioeconòmic important per a la població.

URI:https://www.dosrius.cat/actualitat/noticies/adamo-desplegara-la-fibra-optica-a-can-massuet-del-far-i-a-can-valls-durant-els-mesos-dagost-setembre-i-octubre.html
CLASS:PUBLIC
END:VEVENT
END:VCALENDAR
