BEGIN:VCALENDAR
VERSION:2.0
CALSCALE:GREGORIAN
PRODID:-//Diputació de Barcelona//DibaCMS//EN
BEGIN:VEVENT
UID:2478
DTSTAMP:20260423T024230
DTSTART:20200714T000000
DTEND:20480717T000000
SUMMARY:Continuen els treballs de renovació de les línies de distribució elèctrica a Can Massuet del Far
LOCATION:
METHOD:PUBLISH
X-WR-CALNAME:dosrius@dosrius.cat
X-WR-TIMEZONE:Europe/Madrid
DESCRIPTION:La renovació del cablejat comportarà una millor qualitat, seguretat i continuïtat del servei en els casos de caigudes d’arbres sobre les línies; i permetrà reduir el risc d’incendis en urbanitzacions. 

URI:https://www.dosrius.cat/actualitat/noticies/continuen-els-treballs-de-renovacio-de-les-linies-de-distribucio-electrica-a-can-massuet-del-far.html
CLASS:PUBLIC
END:VEVENT
END:VCALENDAR
