BEGIN:VCALENDAR
VERSION:2.0
CALSCALE:GREGORIAN
PRODID:-//Diputació de Barcelona//DibaCMS//EN
BEGIN:VEVENT
UID:2473
DTSTAMP:20260423T024156
DTSTART:20200702T000000
DTEND:20480717T000000
SUMMARY:L’11 de juliol es donaran a conèixer els guanyadors del Concurs Literari Esteve Albert en un cap de setmana farcit d’activitats
LOCATION:
METHOD:PUBLISH
X-WR-CALNAME:dosrius@dosrius.cat
X-WR-TIMEZONE:Europe/Madrid
DESCRIPTION:El veredicte del certamen es farà públic al carrer Pla de la Calma de Can Massuet del Far en una jornada que també comptarà amb un sopar a la fresca i amb una cantada d’havaneres.

URI:https://www.dosrius.cat/actualitat/noticies/l11-de-juliol-es-donaran-a-coneixer-els-guanyadors-del-concurs-literari-esteve-albert-en-un-cap-de-setmana-farcit-dactivitats.html
CLASS:PUBLIC
END:VEVENT
END:VCALENDAR
