BEGIN:VCALENDAR
VERSION:2.0
CALSCALE:GREGORIAN
PRODID:-//Diputació de Barcelona//DibaCMS//EN
BEGIN:VEVENT
UID:2451
DTSTAMP:20260422T222942
DTSTART:20200625T000000
DTEND:20480619T000000
SUMMARY:Dosrius, amb el Dia Internacional de l’Orgull LGTBIQ+
LOCATION:
METHOD:PUBLISH
X-WR-CALNAME:dosrius@dosrius.cat
X-WR-TIMEZONE:Europe/Madrid
DESCRIPTION:L’Ajuntament se suma a la campanya “Alcem la veu, per uns municipis lliures i diversos”, impulsada per l’àrea d’Igualtat de la Diputació de Barcelona. 

URI:https://www.dosrius.cat/actualitat/noticies/dosrius-amb-el-dia-internacional-de-lorgull-lgtbiq.html
CLASS:PUBLIC
END:VEVENT
END:VCALENDAR
