BEGIN:VCALENDAR
VERSION:2.0
CALSCALE:GREGORIAN
PRODID:-//Diputació de Barcelona//DibaCMS//EN
BEGIN:VEVENT
UID:2449
DTSTAMP:20260422T222759
DTSTART:20200623T000000
DTEND:20480626T000000
SUMMARY:Convocatòria de les beques de menjador escolar per al curs 2020-2021
LOCATION:
METHOD:PUBLISH
X-WR-CALNAME:dosrius@dosrius.cat
X-WR-TIMEZONE:Europe/Madrid
DESCRIPTION:El termini de presentació de sol·licituds comença el 29 de juny i finalitza el 31 de juliol.

URI:https://www.dosrius.cat/actualitat/noticies/convocatoria-de-les-beques-de-menjador-escolar-per-al-curs-2020-2021.html
CLASS:PUBLIC
END:VEVENT
END:VCALENDAR
