BEGIN:VCALENDAR
VERSION:2.0
CALSCALE:GREGORIAN
PRODID:-//Diputació de Barcelona//DibaCMS//EN
BEGIN:VEVENT
UID:2448
DTSTAMP:20260422T222127
DTSTART:20200622T000000
DTEND:20480619T000000
SUMMARY:Comença la temporada d’estiu a la piscina municipal
LOCATION:
METHOD:PUBLISH
X-WR-CALNAME:dosrius@dosrius.cat
X-WR-TIMEZONE:Europe/Madrid
DESCRIPTION:L’equipament és previst que obri les portes l’1 de juliol.

URI:https://www.dosrius.cat/actualitat/noticies/comenca-la-temporada-destiu-a-la-piscina-municipal.html
CLASS:PUBLIC
END:VEVENT
END:VCALENDAR
