BEGIN:VCALENDAR
VERSION:2.0
CALSCALE:GREGORIAN
PRODID:-//Diputació de Barcelona//DibaCMS//EN
BEGIN:VEVENT
UID:2438
DTSTAMP:20260423T065107
DTSTART:20200609T000000
DTEND:20480612T000000
SUMMARY:Apunta’t als casals d’estiu de Dosrius!
LOCATION:
METHOD:PUBLISH
X-WR-CALNAME:dosrius@dosrius.cat
X-WR-TIMEZONE:Europe/Madrid
DESCRIPTION:Entre l’oferta de lleure hi ha el Casal d’Estiu de l’Escola Castell de Dosrius; el Campus d’Estiu del Club Muaythai Dosrius; el Casal d’Estiu d’Iniciatives per 2Rius; o el Casal i les Colònies d’Estiu del Grup d’Esplai l’Esclat. 

URI:https://www.dosrius.cat/actualitat/noticies/apuntat-als-casals-destiu-de-dosrius.html
CLASS:PUBLIC
END:VEVENT
END:VCALENDAR
