BEGIN:VCALENDAR
VERSION:2.0
CALSCALE:GREGORIAN
PRODID:-//Diputació de Barcelona//DibaCMS//EN
BEGIN:VEVENT
UID:2435
DTSTAMP:20260422T165844
DTSTART:20200605T000000
DTEND:20480612T000000
SUMMARY:Dosrius entra el 8 de juny en la fase 2 del pla de desconfinament
LOCATION:
METHOD:PUBLISH
X-WR-CALNAME:dosrius@dosrius.cat
X-WR-TIMEZONE:Europe/Madrid
DESCRIPTION:L’Ajuntament recorda la necessitat de continuar extremant les precaucions, seguir les recomanacions oficials i complir les mesures establertes.

URI:https://www.dosrius.cat/actualitat/noticies/dosrius-entra-el-8-de-juny-en-la-fase-2-del-pla-de-desconfinament.html
CLASS:PUBLIC
END:VEVENT
END:VCALENDAR
