BEGIN:VCALENDAR
VERSION:2.0
CALSCALE:GREGORIAN
PRODID:-//Diputació de Barcelona//DibaCMS//EN
BEGIN:VEVENT
UID:2430
DTSTAMP:20260422T170804
DTSTART:20200522T000000
DTEND:20480523T000000
SUMMARY:Dosrius entra a partir de dilluns 25 de maig en la fase 1 del pla de desconfinament
LOCATION:
METHOD:PUBLISH
X-WR-CALNAME:dosrius@dosrius.cat
X-WR-TIMEZONE:Europe/Madrid
DESCRIPTION:L’Ajuntament recorda la necessitat de continuar extremant les precaucions, seguir les recomanacions oficials i complir les mesures establertes per tal d’evitar la propagació i el contagi de la Covid-19.

URI:https://www.dosrius.cat/actualitat/noticies/dosrius-entra-a-partir-de-dilluns-25-de-maig-en-la-fase-1-del-pla-de-desconfinament.html
CLASS:PUBLIC
END:VEVENT
END:VCALENDAR
