BEGIN:VCALENDAR
VERSION:2.0
CALSCALE:GREGORIAN
PRODID:-//Diputació de Barcelona//DibaCMS//EN
BEGIN:VEVENT
UID:2427
DTSTAMP:20260422T210305
DTSTART:20200521T000000
DTEND:20480522T000000
SUMMARY:L’ús de màscara serà estrictament obligatori a partir d’aquest dijous 
LOCATION:
METHOD:PUBLISH
X-WR-CALNAME:dosrius@dosrius.cat
X-WR-TIMEZONE:Europe/Madrid
DESCRIPTION:El BOE ha emès una ordre on intensifica l’obligatorietat de l’ús de mascareta en persones majors de 6 anys, preferiblement de tipus higiènica o quirúrgica. 

URI:https://www.dosrius.cat/actualitat/noticies/lus-de-mascara-sera-estrictament-obligatori-a-partir-daquest-dijous-.html
CLASS:PUBLIC
END:VEVENT
END:VCALENDAR
