BEGIN:VCALENDAR
VERSION:2.0
CALSCALE:GREGORIAN
PRODID:-//Diputació de Barcelona//DibaCMS//EN
BEGIN:VEVENT
UID:2423
DTSTAMP:20260422T210345
DTSTART:20200515T000000
DTEND:20480523T000000
SUMMARY:Els casals municipals i els Localets no s’aturen i ofereixen noves propostes telemàtiques durant la crisi sanitària de la Covid-19
LOCATION:
METHOD:PUBLISH
X-WR-CALNAME:dosrius@dosrius.cat
X-WR-TIMEZONE:Europe/Madrid
DESCRIPTION:Per a més informació podeu trucar els matins, de dilluns a divendres, o enviar un missatge de WhatsApp al telèfon 673 00 26 13.

URI:https://www.dosrius.cat/actualitat/noticies/els-casals-municipals-i-els-localets-no-saturen-i-ofereixen-noves-propostes-telematiques-durant-la-crisi-sanitaria-de-la-covid-19.html
CLASS:PUBLIC
END:VEVENT
END:VCALENDAR
