BEGIN:VCALENDAR
VERSION:2.0
CALSCALE:GREGORIAN
PRODID:-//Diputació de Barcelona//DibaCMS//EN
BEGIN:VEVENT
UID:2419
DTSTAMP:20260422T234052
DTSTART:20200519T000000
DTEND:20480523T000000
SUMMARY:Ja es poden realitzar les preinscripcions a l’EBM La Caseta del Bosc de Can Martorell
LOCATION:
METHOD:PUBLISH
X-WR-CALNAME:dosrius@dosrius.cat
X-WR-TIMEZONE:Europe/Madrid
DESCRIPTION:La preinscripció per al curs 2020/2021 es pot formalitzar fins al 22 de maig, inclòs, per via telemàtica. En casos excepcionals i justificats les preinscripcions també es podran realitzar presencialment al centre sol·licitant cita prèvia.

URI:https://www.dosrius.cat/actualitat/noticies/ja-es-poden-realitzar-les-preinscripcions-a-lebm-la-caseta-del-bosc-de-can-martorell.html
CLASS:PUBLIC
END:VEVENT
END:VCALENDAR
