BEGIN:VCALENDAR
VERSION:2.0
CALSCALE:GREGORIAN
PRODID:-//Diputació de Barcelona//DibaCMS//EN
BEGIN:VEVENT
UID:2418
DTSTAMP:20260423T000751
DTSTART:20200512T000000
DTEND:20480523T000000
SUMMARY:Recollida d’aliments a càrrec de Creu Roja
LOCATION:
METHOD:PUBLISH
X-WR-CALNAME:dosrius@dosrius.cat
X-WR-TIMEZONE:Europe/Madrid
DESCRIPTION:Les persones que vulguin participar com a voluntàries han d’enviar un missatge al telèfon 671 60 94 90.

URI:https://www.dosrius.cat/actualitat/noticies/recollida-daliments-a-carrec-de-creu-roja.html
CLASS:PUBLIC
END:VEVENT
END:VCALENDAR
