BEGIN:VCALENDAR
VERSION:2.0
CALSCALE:GREGORIAN
PRODID:-//Diputació de Barcelona//DibaCMS//EN
BEGIN:VEVENT
UID:2417
DTSTAMP:20260423T025031
DTSTART:20200508T170000
DTEND:20480529T000000
SUMMARY:Dosrius rep autorització de l’Estat per deixar d’aplicar les franges horàries per a passejar i practicar esport
LOCATION:
METHOD:PUBLISH
X-WR-CALNAME:dosrius@dosrius.cat
X-WR-TIMEZONE:Europe/Madrid
DESCRIPTION:El govern espanyol ha atès favorablement la petició de l’Ajuntament, fonamentada en la gran dispersió territorial del municipi. En aquest sentit, els veïns i veïnes podran sortir a passejar o practicar esport a qualsevol hora del dia, entre les 6 i les 23h, sempre i quan no abandonin el seu nucli de residència (Dosrius, Canyamars i Can Massuet del Far).

URI:https://www.dosrius.cat/actualitat/noticies/dosrius-rep-autoritzacio-de-lestat-per-deixar-daplicar-les-franges-horaries-per-a-passejar-i-practicar-esport.html
CLASS:PUBLIC
END:VEVENT
END:VCALENDAR
