BEGIN:VCALENDAR
VERSION:2.0
CALSCALE:GREGORIAN
PRODID:-//Diputació de Barcelona//DibaCMS//EN
BEGIN:VEVENT
UID:2414
DTSTAMP:20260422T222658
DTSTART:20200508T000000
DTEND:20480516T000000
SUMMARY:Preinscripcions escolars als centres educatius per al curs 2020-2021
LOCATION:
METHOD:PUBLISH
X-WR-CALNAME:dosrius@dosrius.cat
X-WR-TIMEZONE:Europe/Madrid
DESCRIPTION:La preinscripció escolar per a l’EBM La Caseta del Bosc de Can Martorell (educació infantil de primer cicle), per a l’Escola Castell de Dosrius (educació infantil de segon cicle i primària), i per a l’Institut Els Roures (ESO) serà entre el 13 i el 22 de maig; mentre que per al batxillerat, la preinscripció serà del 27 de maig al 3 de juny. Les preinscripcions es podran fer de manera telemàtica i no presencial.

URI:https://www.dosrius.cat/actualitat/noticies/preinscripcions-escolars-als-centres-educatius-per-al-curs-2020-2021.html
CLASS:PUBLIC
END:VEVENT
END:VCALENDAR
