BEGIN:VCALENDAR
VERSION:2.0
CALSCALE:GREGORIAN
PRODID:-//Diputació de Barcelona//DibaCMS//EN
BEGIN:VEVENT
UID:2413
DTSTAMP:20260422T181020
DTSTART:20200505T000000
DTEND:20480522T000000
SUMMARY:El FS Dosrius fa una donació de pantalles protectores a l’Ajuntament
LOCATION:
METHOD:PUBLISH
X-WR-CALNAME:dosrius@dosrius.cat
X-WR-TIMEZONE:Europe/Madrid
DESCRIPTION:L’equipament es destinarà als membres de la brigada municipal i als agents de la Policia Local.

URI:https://www.dosrius.cat/actualitat/noticies/el-fs-dosrius-fa-una-donacio-de-pantalles-protectores-a-lajuntament.html
CLASS:PUBLIC
END:VEVENT
END:VCALENDAR
