BEGIN:VCALENDAR
VERSION:2.0
CALSCALE:GREGORIAN
PRODID:-//Diputació de Barcelona//DibaCMS//EN
BEGIN:VEVENT
UID:2407
DTSTAMP:20260422T210050
DTSTART:20200504T000000
DTEND:20480515T000000
SUMMARY:Els alumnes de quart d’ESO de l’Institut Els Roures, per sobre de la mitjana de Catalunya
LOCATION:
METHOD:PUBLISH
X-WR-CALNAME:dosrius@dosrius.cat
X-WR-TIMEZONE:Europe/Madrid
DESCRIPTION:El centre fa una valoració molt positiva dels resultats obtinguts a les proves de competències bàsiques, felicita a tots els estudiants que han pres part dels exàmens, i encoratja els joves a continuar la seva formació post obligatòria. 

URI:https://www.dosrius.cat/actualitat/noticies/els-alumnes-de-quart-deso-de-linstitut-els-roures-per-sobre-de-la-mitjana-de-catalunya.html
CLASS:PUBLIC
END:VEVENT
END:VCALENDAR
