BEGIN:VCALENDAR
VERSION:2.0
CALSCALE:GREGORIAN
PRODID:-//Diputació de Barcelona//DibaCMS//EN
BEGIN:VEVENT
UID:2406
DTSTAMP:20260422T195408
DTSTART:20200502T000000
DTEND:20480522T000000
SUMMARY:L’Ajuntament sol·licita que s’eximeixi al municipi de Dosrius de les restriccions de les franges horàries 
LOCATION:
METHOD:PUBLISH
X-WR-CALNAME:dosrius@dosrius.cat
X-WR-TIMEZONE:Europe/Madrid
DESCRIPTION:A l’espera d’una resposta oficial per part de l’administració, fins a nova ordre seran d’aplicació des d’aquest dissabte 2 de maig les franges horàries per passejar, sortir amb els infants i fer esport als nuclis de Dosrius, Can Massuet del Far i Canyamars.

URI:https://www.dosrius.cat/actualitat/noticies/lajuntament-sollicita-que-seximeixi-al-municipi-de-dosrius-de-les-restriccions-de-les-franges-horaries-.html
CLASS:PUBLIC
END:VEVENT
END:VCALENDAR
