BEGIN:VCALENDAR
VERSION:2.0
CALSCALE:GREGORIAN
PRODID:-//Diputació de Barcelona//DibaCMS//EN
BEGIN:VEVENT
UID:2404
DTSTAMP:20260422T235712
DTSTART:20200430T000000
DTEND:20480424T000000
SUMMARY:La Generalitat ofereix un ajut d'urgència per a persones treballadores afectades econòmicament per la Covid-19 
LOCATION:
METHOD:PUBLISH
X-WR-CALNAME:dosrius@dosrius.cat
X-WR-TIMEZONE:Europe/Madrid
DESCRIPTION:L’ajut serà de 200 euros en un únic pagament i s’haurà de destinar a l’adquisició de productes d’alimentació, farmàcia i altres subministraments bàsics.

URI:https://www.dosrius.cat/actualitat/noticies/la-generalitat-ofereix-un-ajut-durgencia-per-a-persones-treballadores-afectades-economicament-per-la-covid-19-.html
CLASS:PUBLIC
END:VEVENT
END:VCALENDAR
