BEGIN:VCALENDAR
VERSION:2.0
CALSCALE:GREGORIAN
PRODID:-//Diputació de Barcelona//DibaCMS//EN
BEGIN:VEVENT
UID:2403
DTSTAMP:20260422T181041
DTSTART:20200427T000000
DTEND:20480417T000000
SUMMARY:El teu negoci obre durant l’estat d’alarma? Comunica-ho a l’Ajuntament i en farem difusió
LOCATION:
METHOD:PUBLISH
X-WR-CALNAME:dosrius@dosrius.cat
X-WR-TIMEZONE:Europe/Madrid
DESCRIPTION:Els establiments interessats poden posar-se en contacte amb el consistori enviant un correu a lfarrerons@dosrius.cat o trucant al 673 00 36 00.

URI:https://www.dosrius.cat/actualitat/noticies/el-teu-negoci-obre-durant-lestat-dalarma-comunica-ho-a-lajuntament-i-en-farem-difusio.html
CLASS:PUBLIC
END:VEVENT
END:VCALENDAR
