BEGIN:VCALENDAR
VERSION:2.0
CALSCALE:GREGORIAN
PRODID:-//Diputació de Barcelona//DibaCMS//EN
BEGIN:VEVENT
UID:2393
DTSTAMP:20260422T210504
DTSTART:20200406T000000
DTEND:20480423T000000
SUMMARY:Dosrius aposta per un confinament actiu
LOCATION:
METHOD:PUBLISH
X-WR-CALNAME:dosrius@dosrius.cat
X-WR-TIMEZONE:Europe/Madrid
DESCRIPTION:L’Ajuntament recorda la importància de mantenir un estil de vida actiu i saludable durant l’estat d’alarma.

URI:https://www.dosrius.cat/actualitat/noticies/dosrius-aposta-per-un-confinament-actiu.html
CLASS:PUBLIC
END:VEVENT
END:VCALENDAR
