BEGIN:VCALENDAR
VERSION:2.0
CALSCALE:GREGORIAN
PRODID:-//Diputació de Barcelona//DibaCMS//EN
BEGIN:VEVENT
UID:2392
DTSTAMP:20260423T000522
DTSTART:20200402T000000
DTEND:20480424T000000
SUMMARY:L’Ajuntament tanca temporalment totes les fonts públiques
LOCATION:
METHOD:PUBLISH
X-WR-CALNAME:dosrius@dosrius.cat
X-WR-TIMEZONE:Europe/Madrid
DESCRIPTION:La mesura té com a objectiu evitar que les fonts esdevinguin un element de risc de transmissió del COVID19, ja que es tracta d’una de les instal·lacions on hi pot haver més contacte amb les mans o la boca.

URI:https://www.dosrius.cat/actualitat/noticies/lajuntament-tanca-temporalment-totes-les-fonts-publiques.html
CLASS:PUBLIC
END:VEVENT
END:VCALENDAR
