BEGIN:VCALENDAR
VERSION:2.0
CALSCALE:GREGORIAN
PRODID:-//Diputació de Barcelona//DibaCMS//EN
BEGIN:VEVENT
UID:2391
DTSTAMP:20260422T210110
DTSTART:20200511T000000
DTEND:20480410T000000
SUMMARY:L’Ajuntament impulsa el “IV Concurs Fotogràfic de Dosrius, Canyamars i El Far”
LOCATION:
METHOD:PUBLISH
X-WR-CALNAME:dosrius@dosrius.cat
X-WR-TIMEZONE:Europe/Madrid
DESCRIPTION:El termini de presentació de les imatges finalitza el 30 d’octubre i les 13 fotografies premiades apareixeran en el calendari de l’any 2021.

URI:https://www.dosrius.cat/actualitat/noticies/lajuntament-impulsa-el-iv-concurs-fotografic-de-dosrius-canyamars-i-el-far.html
CLASS:PUBLIC
END:VEVENT
END:VCALENDAR
