BEGIN:VCALENDAR
VERSION:2.0
CALSCALE:GREGORIAN
PRODID:-//Diputació de Barcelona//DibaCMS//EN
BEGIN:VEVENT
UID:2389
DTSTAMP:20260423T023848
DTSTART:20200402T000000
DTEND:20480423T000000
SUMMARY:L'Ajuntament de Dosrius amplia el termini de pagament de tributs
LOCATION:
METHOD:PUBLISH
X-WR-CALNAME:dosrius@dosrius.cat
X-WR-TIMEZONE:Europe/Madrid
DESCRIPTION:Aquesta mesura se suma a les que ja va aprovar el consistori per ajudar la població i el teixit comercial en aquest període d'excepcionalitat i també a la creació de tres noves línies d’ajuts municipals extraordinaris per mitigar els efectes socials i econòmics del coronavirus.

URI:https://www.dosrius.cat/actualitat/noticies/lajuntament-de-dosrius-amplia-el-termini-de-pagament-de-tributs.html
CLASS:PUBLIC
END:VEVENT
END:VCALENDAR
