BEGIN:VCALENDAR
VERSION:2.0
CALSCALE:GREGORIAN
PRODID:-//Diputació de Barcelona//DibaCMS//EN
BEGIN:VEVENT
UID:2386
DTSTAMP:20260422T211030
DTSTART:20200327T000000
DTEND:20480320T000000
SUMMARY:L’Ajuntament ofereix un servei de suport a les persones vulnerables que no poden sortir de casa
LOCATION:
METHOD:PUBLISH
X-WR-CALNAME:dosrius@dosrius.cat
X-WR-TIMEZONE:Europe/Madrid
DESCRIPTION:El consistori posa a disposició dels veïns i veïnes els telèfons 937 91 80 14 i 663 32 31 53 i el correu electrònic serveissocials@dosrius.cat.

URI:https://www.dosrius.cat/actualitat/noticies/lajuntament-ofereix-un-servei-de-suport-a-les-persones-vulnerables-que-no-poden-sortir-de-casa.html
CLASS:PUBLIC
END:VEVENT
END:VCALENDAR
