BEGIN:VCALENDAR
VERSION:2.0
CALSCALE:GREGORIAN
PRODID:-//Diputació de Barcelona//DibaCMS//EN
BEGIN:VEVENT
UID:2376
DTSTAMP:20260422T205941
DTSTART:20200313T080000
DTEND:20480320T000000
SUMMARY:Comunicat de l'Ajuntament en relació al cas de coronavirus detectat al municipi
LOCATION:
METHOD:PUBLISH
X-WR-CALNAME:dosrius@dosrius.cat
X-WR-TIMEZONE:Europe/Madrid
DESCRIPTION:Davant d’aquest fet el consistori vol transmetre un missatge de calma i serenor a la població i, sobretot, demanem que se segueixin les recomanacions oficials i que no es difonguin informacions no contrastades.

URI:https://www.dosrius.cat/actualitat/noticies/comunicat-de-lajuntament-en-relacio-al-cas-de-coronavirus-detectat-al-municipi.html
CLASS:PUBLIC
END:VEVENT
END:VCALENDAR
