BEGIN:VCALENDAR
VERSION:2.0
CALSCALE:GREGORIAN
PRODID:-//Diputació de Barcelona//DibaCMS//EN
BEGIN:VEVENT
UID:2366
DTSTAMP:20260422T164834
DTSTART:20200302T000000
DTEND:20480326T000000
SUMMARY:Sílvia Garrido inicia un cicle de trobades amb els veïns i veïnes de Can Massuet del Far i de Canyamars
LOCATION:
METHOD:PUBLISH
X-WR-CALNAME:dosrius@dosrius.cat
X-WR-TIMEZONE:Europe/Madrid
DESCRIPTION:A partir del 16 de març l’alcaldessa de Dosrius rebrà, sota cita prèvia, visites de veïns i veïnes de tots dos nuclis per atendre les seves necessitats i interessos.

URI:https://www.dosrius.cat/actualitat/noticies/silvia-garrido-inicia-un-cicle-de-trobades-amb-els-veins-i-veines-de-can-massuet-del-far-i-de-canyamars.html
CLASS:PUBLIC
END:VEVENT
END:VCALENDAR
