BEGIN:VCALENDAR
VERSION:2.0
CALSCALE:GREGORIAN
PRODID:-//Diputació de Barcelona//DibaCMS//EN
BEGIN:VEVENT
UID:2362
DTSTAMP:20260422T193824
DTSTART:20200226T000000
DTEND:20480220T000000
SUMMARY:L’Ajuntament i el Departament d’Interior parlen dels avenços en matèria de seguretat al municipi
LOCATION:
METHOD:PUBLISH
X-WR-CALNAME:dosrius@dosrius.cat
X-WR-TIMEZONE:Europe/Madrid
DESCRIPTION:El nombre de robatoris a Dosrius, Can Massuet del Far i Canyamars, així com al conjunt del Maresme, s’ha reduït progressivament al llarg dels darrers mesos gràcies al treball conjunt entre els ens locals, els cossos policials i la Generalitat de Catalunya.

URI:https://www.dosrius.cat/actualitat/noticies/lajuntament-i-el-departament-dinterior-parlen-dels-avencos-en-materia-de-seguretat-al-municipi.html
CLASS:PUBLIC
END:VEVENT
END:VCALENDAR
