BEGIN:VCALENDAR
VERSION:2.0
CALSCALE:GREGORIAN
PRODID:-//Diputació de Barcelona//DibaCMS//EN
BEGIN:VEVENT
UID:2354
DTSTAMP:20260423T024005
DTSTART:20200214T000000
DTEND:20480213T000000
SUMMARY:Dosrius acomiadarà el Carnaval amb el tradicional Dimecres de Cendra
LOCATION:
METHOD:PUBLISH
X-WR-CALNAME:dosrius@dosrius.cat
X-WR-TIMEZONE:Europe/Madrid
DESCRIPTION:Els tiquets per a la sardinada popular es poden adquirir anticipadament a l’Ajuntament al preu de 2€, mentre que el mateix dia del sopar tindran un cost de 4€.

URI:https://www.dosrius.cat/actualitat/noticies/dosrius-acomiadara-el-carnaval-amb-el-tradicional-dimecres-de-cendra.html
CLASS:PUBLIC
END:VEVENT
END:VCALENDAR
