BEGIN:VCALENDAR
VERSION:2.0
CALSCALE:GREGORIAN
PRODID:-//Diputació de Barcelona//DibaCMS//EN
BEGIN:VEVENT
UID:2342
DTSTAMP:20260422T120438
DTSTART:20200203T000000
DTEND:20480206T000000
SUMMARY:La disfàgia o la dificultat d’empassar, protagonista de la nova trobada sobre salut
LOCATION:
METHOD:PUBLISH
X-WR-CALNAME:dosrius@dosrius.cat
X-WR-TIMEZONE:Europe/Madrid
DESCRIPTION:La xerrada tindrà lloc el 24 de febrer a la Sala de Plens i és oberta a tota la ciutadania.

URI:https://www.dosrius.cat/actualitat/noticies/la-disfagia-o-la-dificultat-dempassar-protagonista-de-la-nova-trobada-sobre-salut.html
CLASS:PUBLIC
END:VEVENT
END:VCALENDAR
