BEGIN:VCALENDAR
VERSION:2.0
CALSCALE:GREGORIAN
PRODID:-//Diputació de Barcelona//DibaCMS//EN
BEGIN:VEVENT
UID:2334
DTSTAMP:20260423T023508
DTSTART:20200120T160000
DTEND:20480117T000000
SUMMARY:Dimarts 21 de gener queden suspeses les classes a tots els centres educatius pel temporal Glòria
LOCATION:
METHOD:PUBLISH
X-WR-CALNAME:dosrius@dosrius.cat
X-WR-TIMEZONE:Europe/Madrid
DESCRIPTION:L’Escola Castell de Dosrius, l’Institut de Dosrius i l’EBM La Caseta del Bosc de Can Martorell reobriran amb normalitat dimecres 22 de gener.

URI:https://www.dosrius.cat/actualitat/noticies/dimarts-21-de-gener-queden-suspeses-les-classes-a-tots-els-centres-educatius-pel-temporal-gloria.html
CLASS:PUBLIC
END:VEVENT
END:VCALENDAR
