BEGIN:VCALENDAR
VERSION:2.0
CALSCALE:GREGORIAN
PRODID:-//Diputació de Barcelona//DibaCMS//EN
BEGIN:VEVENT
UID:2327
DTSTAMP:20260423T070626
DTSTART:20200113T000000
DTEND:20480117T000000
SUMMARY:Dosrius es dotarà amb un Pla especial urbanístic de protecció del patrimoni i el catàleg de béns arquitectònics, històrics i ambientals
LOCATION:
METHOD:PUBLISH
X-WR-CALNAME:dosrius@dosrius.cat
X-WR-TIMEZONE:Europe/Madrid
DESCRIPTION:Dijous 23 de gener la Sala de Plens acollirà una sessió informativa sobre aquest projecte oberta a tota la població.

URI:https://www.dosrius.cat/actualitat/noticies/dosrius-es-dotara-amb-un-pla-especial-urbanistic-de-proteccio-del-patrimoni-i-el-cataleg-de-bens-arquitectonics-historics-i-ambientals.html
CLASS:PUBLIC
END:VEVENT
END:VCALENDAR
