BEGIN:VCALENDAR
VERSION:2.0
CALSCALE:GREGORIAN
PRODID:-//Diputació de Barcelona//DibaCMS//EN
BEGIN:VEVENT
UID:2326
DTSTAMP:20260422T221809
DTSTART:20200310T090000
DTEND:20480117T000000
SUMMARY:La Volta Ciclista a Catalunya repetirà presència aquest 2020 a Dosrius 
LOCATION:
METHOD:PUBLISH
X-WR-CALNAME:dosrius@dosrius.cat
X-WR-TIMEZONE:Europe/Madrid
DESCRIPTION:El municipi acollirà el 28 de març un tram de la sisena etapa d’aquesta icònica competició on hi prendran part algunes de les primeres figures del ciclisme mundial. 

URI:https://www.dosrius.cat/actualitat/noticies/la-volta-ciclista-a-catalunya-repetira-presencia-aquest-2020-a-dosrius-.html
CLASS:PUBLIC
END:VEVENT
END:VCALENDAR
