BEGIN:VCALENDAR
VERSION:2.0
CALSCALE:GREGORIAN
PRODID:-//Diputació de Barcelona//DibaCMS//EN
BEGIN:VEVENT
UID:2313
DTSTAMP:20260423T051804
DTSTART:20191217T000000
DTEND:20481218T000000
SUMMARY:El Cant de la Sibil·la ressonarà de nou a Canyamars
LOCATION:
METHOD:PUBLISH
X-WR-CALNAME:dosrius@dosrius.cat
X-WR-TIMEZONE:Europe/Madrid
DESCRIPTION:Dimarts 24 de desembre, abans de la tradicional Missa del Gall, l'església de Sant Esteve acollirà a partir de les 19.15 h la representació d'aquest cant medieval a càrrec de la formació “4notesclub”.

URI:https://www.dosrius.cat/actualitat/noticies/el-cant-de-la-sibilla-ressonara-de-nou-a-canyamars.html
CLASS:PUBLIC
END:VEVENT
END:VCALENDAR
