BEGIN:VCALENDAR
VERSION:2.0
CALSCALE:GREGORIAN
PRODID:-//Diputació de Barcelona//DibaCMS//EN
BEGIN:VEVENT
UID:2311
DTSTAMP:20260423T041601
DTSTART:20191218T000000
DTEND:20481211T000000
SUMMARY:La Fira Infantil de Nadal celebra a Canyamars la seva vuitena edició 
LOCATION:
METHOD:PUBLISH
X-WR-CALNAME:dosrius@dosrius.cat
X-WR-TIMEZONE:Europe/Madrid
DESCRIPTION:Al llarg de la jornada es podran fer donatius per a La Marató de TV3. 

URI:https://www.dosrius.cat/actualitat/noticies/la-fira-infantil-de-nadal-celebra-a-canyamars-la-seva-vuitena-edicio-.html
CLASS:PUBLIC
END:VEVENT
END:VCALENDAR
