BEGIN:VCALENDAR
VERSION:2.0
CALSCALE:GREGORIAN
PRODID:-//Diputació de Barcelona//DibaCMS//EN
BEGIN:VEVENT
UID:2310
DTSTAMP:20260423T082227
DTSTART:20191216T110000
DTEND:20481210T000000
SUMMARY:La Policia Local comissa un vehicle que transportava prop de 500 esqueixos de marihuana
LOCATION:
METHOD:PUBLISH
X-WR-CALNAME:dosrius@dosrius.cat
X-WR-TIMEZONE:Europe/Madrid
DESCRIPTION:S’ha detingut un home a Can Massuet del Far per un presumpte delicte contra la salut pública en la seva vessant de tràfic de drogues.

URI:https://www.dosrius.cat/actualitat/noticies/la-policia-local-comissa-un-vehicle-que-transportava-prop-de-500-esqueixos-de-marihuana.html
CLASS:PUBLIC
END:VEVENT
END:VCALENDAR
