BEGIN:VCALENDAR
VERSION:2.0
CALSCALE:GREGORIAN
PRODID:-//Diputació de Barcelona//DibaCMS//EN
BEGIN:VEVENT
UID:2304
DTSTAMP:20260422T234214
DTSTART:20191204T090000
DTEND:20481218T000000
SUMMARY:Dosrius recull prop de 2.000 quilos d’aliments durant el Gran Recapte
LOCATION:
METHOD:PUBLISH
X-WR-CALNAME:dosrius@dosrius.cat
X-WR-TIMEZONE:Europe/Madrid
DESCRIPTION:El 22 i 23 de novembre es van recaptar al municipi un total de 1.874 kg. d’aliments gràcies a les aportacions voluntàries dels veïns i veïnes.

URI:https://www.dosrius.cat/actualitat/noticies/dosrius-recull-prop-de-2000-quilos-daliments-durant-el-gran-recapte.html
CLASS:PUBLIC
END:VEVENT
END:VCALENDAR
