BEGIN:VCALENDAR
VERSION:2.0
CALSCALE:GREGORIAN
PRODID:-//Diputació de Barcelona//DibaCMS//EN
BEGIN:VEVENT
UID:2299
DTSTAMP:20260422T223003
DTSTART:20191122T000000
DTEND:20481120T000000
SUMMARY:Comunicat de l’Ajuntament de Dosrius en relació als episodis de robatoris ocorreguts al municipi
LOCATION:
METHOD:PUBLISH
X-WR-CALNAME:dosrius@dosrius.cat
X-WR-TIMEZONE:Europe/Madrid
DESCRIPTION:Davant dels recents episodis de robatoris ocorreguts al municipi des de l’Ajuntament de Dosrius volem manifestar el següent.

URI:https://www.dosrius.cat/actualitat/noticies/comunicat-de-lajuntament-de-dosrius-en-relacio-als-episodis-de-robatoris-ocorreguts-al-municipi.html
CLASS:PUBLIC
END:VEVENT
END:VCALENDAR
